BEGIN:VCALENDAR
VERSION:2.0
PRODID:-//Tukios.com/
BEGIN:VEVENT
UID:7e35b18b-f88b-4b80-8e40-3e256e4456a8@www.hayworth-miller.com
DTSTAMP:20260424T012232Z
DTSTART:20260429T180000Z
DTEND:20260429T190000Z
SUMMARY:Graveside Service
DESCRIPTION:
URL:https://www.hayworth-miller.com/obituaries/arvil-jessie
LOCATION: 9051 Appalachian Hwy  Matheny WV 24860
GEO:37.665235;-81.5954069
END:VEVENT
END:VCALENDAR