BEGIN:VCALENDAR
VERSION:2.0
PRODID:-//Tukios.com/
BEGIN:VEVENT
UID:9fddd736-7352-4393-8f4b-98b9cc01274b@www.hayworth-miller.com
DTSTAMP:20260423T211908Z
DTSTART:20260430T180000Z
DTEND:20260430T190000Z
SUMMARY:Funeral Service
DESCRIPTION:
URL:https://www.hayworth-miller.com/obituaries/byron-bullard-sr
LOCATION:Main Street Methodist Church South Main Street  Kernersville NC 
	27284
GEO:36.1118051;-80.087354
END:VEVENT
END:VCALENDAR