BEGIN:VCALENDAR
VERSION:2.0
PRODID:-//Tukios.com/
BEGIN:VEVENT
UID:0ea350b1-835e-466c-b0fb-cf3ed6cc422e@www.hayworth-miller.com
DTSTAMP:20260423T211705Z
DTSTART:20260429T200000Z
DTEND:20260429T220000Z
SUMMARY:Visitation
DESCRIPTION:
URL:https://www.hayworth-miller.com/obituaries/byron-bullard-sr
LOCATION: 3950 Macy Grove Rd  Kernersville NC 27284
GEO:36.1322852;-80.052361
END:VEVENT
END:VCALENDAR