BEGIN:VCALENDAR
VERSION:2.0
PRODID:-//Tukios.com/
BEGIN:VEVENT
UID:77f2a5f0-49dd-4442-8640-2cf1d797750f@www.hayworth-miller.com
DTSTAMP:20260420T204537Z
DTSTART:20260423T150000Z
DTEND:20260423T160000Z
SUMMARY:Visitation
DESCRIPTION:
URL:https://www.hayworth-miller.com/obituaries/charles-mills
LOCATION:Hayworth-Miller Kernersville Chapel 3950 Macy Grove Rd  
	Kernersville NC 27284
GEO:36.1322852;-80.052361
END:VEVENT
END:VCALENDAR