BEGIN:VCALENDAR
VERSION:2.0
PRODID:-//Tukios.com/
BEGIN:VEVENT
UID:7eb77ae9-9ab4-4d7d-b0ac-adf87ea03460@www.hayworth-miller.com
DTSTAMP:20260420T203957Z
DTSTART:20260423T163000Z
DTEND:20260423T173000Z
SUMMARY:Graveside Service
DESCRIPTION:
URL:https://www.hayworth-miller.com/obituaries/charles-mills
LOCATION:266 N Regional Rd 266 N Regional Rd  Greensboro NC 27410
GEO:36.0960818;-79.9532656
END:VEVENT
END:VCALENDAR