BEGIN:VCALENDAR
VERSION:2.0
PRODID:-//Tukios.com/
BEGIN:VEVENT
UID:6d12bc24-c9e6-4c15-bf35-f716f65fb472@www.hayworth-miller.com
DTSTAMP:20260422T163310Z
DTSTART:20260423T140000Z
DTEND:20260423T150000Z
SUMMARY:Funeral Service
DESCRIPTION:
URL:https://www.hayworth-miller.com/obituaries/charles-slick-poteat
LOCATION: 3315 Silas Creek Pkwy  Winston-Salem NC 27103
GEO:36.0723888;-80.2943229
END:VEVENT
END:VCALENDAR