BEGIN:VCALENDAR
VERSION:2.0
PRODID:-//Tukios.com/
BEGIN:VEVENT
UID:9020b81e-7561-449d-acd1-41b66ae9c427@www.hayworth-miller.com
DTSTAMP:20260422T163406Z
DTSTART:20260423T130000Z
DTEND:20260423T140000Z
SUMMARY:Visitation
DESCRIPTION:
URL:https://www.hayworth-miller.com/obituaries/charles-slick-poteat
LOCATION: 3315 Silas Creek Pkwy  Winston-Salem NC 27103
GEO:36.0723888;-80.2943229
END:VEVENT
END:VCALENDAR