BEGIN:VCALENDAR
VERSION:2.0
PRODID:-//Tukios.com/
BEGIN:VEVENT
UID:87bb730b-fbe2-45b1-8d0b-1df7b90fe434@www.hayworth-miller.com
DTSTAMP:20260422T163406Z
DTSTART:20260423
SUMMARY:Burial
DESCRIPTION:
URL:https://www.hayworth-miller.com/obituaries/charles-slick-poteat
LOCATION: 3771 Yadkinville Rd  Winston-Salem NC 27106
GEO:36.1551079;-80.3289701
END:VEVENT
END:VCALENDAR