BEGIN:VCALENDAR
VERSION:2.0
PRODID:-//Tukios.com/
BEGIN:VEVENT
UID:7a20c776-8c13-463e-9d3b-606cac42096e@www.hayworth-miller.com
DTSTAMP:20260423T190004Z
DTSTART:20260425T143000Z
DTEND:20260425T153000Z
SUMMARY:Funeral Service
DESCRIPTION:
URL:https://www.hayworth-miller.com/obituaries/ernest-teague
LOCATION: 8955 Concord Church Road  Lewisville NC 27023
GEO:36.0741211;-80.4386158
END:VEVENT
END:VCALENDAR