BEGIN:VCALENDAR
VERSION:2.0
PRODID:-//Tukios.com/
BEGIN:VEVENT
UID:99e30be8-cd58-43b0-bbbf-9c4ff09b3a03@www.hayworth-miller.com
DTSTAMP:20260423T190015Z
DTSTART:20260425T180000Z
DTEND:20260425T190000Z
SUMMARY:Burial
DESCRIPTION:
URL:https://www.hayworth-miller.com/obituaries/ernest-teague
LOCATION:Cedar Cliff Methodist Church 4683 Cedar Cliff Road  Graham NC 
	27253
GEO:35.9647828;-79.3609286
END:VEVENT
END:VCALENDAR