BEGIN:VCALENDAR
VERSION:2.0
PRODID:-//Tukios.com/
BEGIN:VEVENT
UID:7f4ad294-8273-43c3-a09d-dd54e985678c@www.hayworth-miller.com
DTSTAMP:20260426T000209Z
DTSTART:20260426T210000Z
DTEND:20260426T230000Z
SUMMARY:Visitation
DESCRIPTION:
URL:https://www.hayworth-miller.com/obituaries/francis-frannie-brannan
LOCATION:Hayworth-Miller Funeral Home 3315 Silas Creek Parkway  
	Winston-Salem NC 27103
GEO:36.0723888;-80.2943229
END:VEVENT
END:VCALENDAR