BEGIN:VCALENDAR
VERSION:2.0
PRODID:-//Tukios.com/
BEGIN:VEVENT
UID:0a9e8e82-cfcb-4749-af02-4de8031b187a@www.hayworth-miller.com
DTSTAMP:20260426T000209Z
DTSTART:20260428T153000Z
DTEND:20260428T163000Z
SUMMARY:Funeral Service
DESCRIPTION:
URL:https://www.hayworth-miller.com/obituaries/francis-frannie-brannan
LOCATION:Our Lady of Mercy Catholic Church 1730 Link Rd  Winston-Salem NC 
	27103
GEO:36.0705785;-80.2611301
END:VEVENT
END:VCALENDAR