BEGIN:VCALENDAR
VERSION:2.0
PRODID:-//Tukios.com/
BEGIN:VEVENT
UID:e671e094-c923-4866-b992-2c7c810030be@www.hayworth-miller.com
DTSTAMP:20260422T210450Z
DTSTART:20260425
SUMMARY:Visitation
DESCRIPTION:Visitation following the service.
URL:https://www.hayworth-miller.com/obituaries/frank-joyce
LOCATION: 305 Bethania-Rural Hall Rd  Rural Hall NC 27045
GEO:36.239042;-80.297262
END:VEVENT
END:VCALENDAR