BEGIN:VCALENDAR
VERSION:2.0
PRODID:-//Tukios.com/
BEGIN:VEVENT
UID:39e964d3-8cc6-4c8c-912c-fa7185f77c13@www.hayworth-miller.com
DTSTAMP:20260422T210643Z
DTSTART:20260425T180000Z
DTEND:20260425T190000Z
SUMMARY:Funeral Service
DESCRIPTION:
URL:https://www.hayworth-miller.com/obituaries/frank-joyce
LOCATION: 305 Bethania-Rural Hall Rd  Rural Hall NC 27045
GEO:36.239042;-80.297262
END:VEVENT
END:VCALENDAR