BEGIN:VCALENDAR
VERSION:2.0
PRODID:-//Tukios.com/
BEGIN:VEVENT
UID:a38b698a-26e7-4f32-8cdd-9a13869ea4ad@www.hayworth-miller.com
DTSTAMP:20260420T231750Z
DTSTART:20260422T190000Z
DTEND:20260422T200000Z
SUMMARY:Graveside Service
DESCRIPTION:
URL:https://www.hayworth-miller.com/obituaries/george-ball-jr
LOCATION: 6850 University Pkwy  Rural Hall NC 27045
GEO:36.22063;-80.288785
END:VEVENT
END:VCALENDAR