BEGIN:VCALENDAR
VERSION:2.0
PRODID:-//Tukios.com/
BEGIN:VEVENT
UID:971ffb2a-f0b9-4d1a-9a45-63ac226929b5@www.hayworth-miller.com
DTSTAMP:20260420T232149Z
DTSTART:20260422T173000Z
DTEND:20260422T183000Z
SUMMARY:Visitation
DESCRIPTION:
URL:https://www.hayworth-miller.com/obituaries/george-ball-jr
LOCATION: 305 Bethania-Rural Hall Rd  Rural Hall NC 27045
GEO:36.2389779;-80.2971962
END:VEVENT
END:VCALENDAR