BEGIN:VCALENDAR
VERSION:2.0
PRODID:-//Tukios.com/
BEGIN:VEVENT
UID:5b12f4df-4e15-4da3-ac74-03884d648d08@www.hayworth-miller.com
DTSTAMP:20260420T203835Z
DTSTART:20260422T153000Z
DTEND:20260422T163000Z
SUMMARY:Visitation
DESCRIPTION:
URL:https://www.hayworth-miller.com/obituaries/jack-dull
LOCATION:Hayworth-Miller Lewisville Chapel 6685 Shallowford Rd  
	Lewisville NC 27023
GEO:36.0947593;-80.425828
END:VEVENT
END:VCALENDAR