BEGIN:VCALENDAR
VERSION:2.0
PRODID:-//Tukios.com/
BEGIN:VEVENT
UID:25061905-7d51-4074-9ce8-17823ab5a73c@www.hayworth-miller.com
DTSTAMP:20260420T204736Z
DTSTART:20260422T170000Z
DTEND:20260422T180000Z
SUMMARY:Graveside Service
DESCRIPTION:
URL:https://www.hayworth-miller.com/obituaries/jack-dull
LOCATION:Lewisville Baptist Church 125 Lewisville Clemmons Rd  Lewisville 
	NC 27023
GEO:36.0968308;-80.4185006
END:VEVENT
END:VCALENDAR