BEGIN:VCALENDAR
VERSION:2.0
PRODID:-//Tukios.com/
BEGIN:VEVENT
UID:15cda1ec-bfc7-479d-9f79-7647e95a3f39@www.hayworth-miller.com
DTSTAMP:20260421T031159Z
DTSTART:20260504T180000Z
DTEND:20260504T190000Z
SUMMARY:Graveside Service
DESCRIPTION:
URL:https://www.hayworth-miller.com/obituaries/james-lynch
LOCATION: 6135 Ridgecrest Point  Winston-Salem NC 27103
GEO:36.03;-80.371456
END:VEVENT
END:VCALENDAR