BEGIN:VCALENDAR
VERSION:2.0
PRODID:-//Tukios.com/
BEGIN:VEVENT
UID:af477e61-5310-40ae-934e-a0bcb7445d39@www.hayworth-miller.com
DTSTAMP:20260422T003652Z
DTSTART:20260501T140000Z
DTEND:20260501T150000Z
SUMMARY:Graveside Service
DESCRIPTION:
URL:https://www.hayworth-miller.com/obituaries/james-wheeler
LOCATION:Parklawn Memorial Park 2730 Peters Creek Pkwy  Winston-Salem NC 
	27127
GEO:36.054398;-80.261689
END:VEVENT
END:VCALENDAR