BEGIN:VCALENDAR
VERSION:2.0
PRODID:-//Tukios.com/
BEGIN:VEVENT
UID:0b10d740-c446-445a-92fa-36593c85ddf9@www.hayworth-miller.com
DTSTAMP:20260420T192541Z
DTSTART:20260501T190000Z
DTEND:20260501T200000Z
SUMMARY:Funeral Service
DESCRIPTION:
URL:https://www.hayworth-miller.com/obituaries/jane-behm
LOCATION:Kernersville Seventh-Day Adventist Church 896 Old Winston Rd  
	Kernersville NC 27284
GEO:36.1133274;-80.0951047
END:VEVENT
END:VCALENDAR