BEGIN:VCALENDAR
VERSION:2.0
PRODID:-//Tukios.com/
BEGIN:VEVENT
UID:fb60ed30-39bd-4eea-a08f-9fa732ea8b1b@www.hayworth-miller.com
DTSTAMP:20260422T185859Z
DTSTART:20260423T180000Z
DTEND:20260423T190000Z
SUMMARY:Graveside Service
DESCRIPTION:
URL:https://www.hayworth-miller.com/obituaries/jerrel-little-bell
LOCATION: 3771 Yadkinville Rd  Winston-Salem NC 27106
GEO:36.1551079;-80.3289701
END:VEVENT
END:VCALENDAR