BEGIN:VCALENDAR
VERSION:2.0
PRODID:-//Tukios.com/
BEGIN:VEVENT
UID:9dc17d37-cf09-4954-bc67-78b77d66bbda@www.hayworth-miller.com
DTSTAMP:20260425T221213Z
DTSTART:20260509T190000Z
DTEND:20260509T200000Z
SUMMARY:Celebration of Life
DESCRIPTION:
URL:https://www.hayworth-miller.com/obituaries/martha-tegeler
LOCATION: 2415 Silas Creek Pkwy  Winston-Salem NC 27103
GEO:36.0705442;-80.2821652
END:VEVENT
END:VCALENDAR