BEGIN:VCALENDAR
VERSION:2.0
PRODID:-//Tukios.com/
BEGIN:VEVENT
UID:db728805-290b-47cc-a2cb-3b16de6cda6c@www.hayworth-miller.com
DTSTAMP:20260421T164614Z
DTSTART:20260422T183000Z
DTEND:20260422T193000Z
SUMMARY:Graveside Service
DESCRIPTION:
URL:https://www.hayworth-miller.com/obituaries/mildred-white
LOCATION:Salem Cemetery 301 Cemetery St  Winston-Salem NC 27101
GEO:36.0929409;-80.239091
END:VEVENT
END:VCALENDAR