BEGIN:VCALENDAR
VERSION:2.0
PRODID:-//Tukios.com/
BEGIN:VEVENT
UID:0be82002-8798-4e94-80b2-f97721c8799a@www.hayworth-miller.com
DTSTAMP:20260423T214919Z
DTSTART:20260502T150000Z
DTEND:20260502T160000Z
SUMMARY:Memorial Service
DESCRIPTION:
URL:https://www.hayworth-miller.com/obituaries/nancy-jean-tuttle
LOCATION: 3950 Macy Grove Rd  Kernersville NC 27284
GEO:36.1322852;-80.052361
END:VEVENT
END:VCALENDAR