BEGIN:VCALENDAR
VERSION:2.0
PRODID:-//Tukios.com/
BEGIN:VEVENT
UID:c6a95bc5-c739-4937-b676-99d631f35a39@www.hayworth-miller.com
DTSTAMP:20260422T185029Z
DTSTART:20260427T170000Z
DTEND:20260427T180000Z
SUMMARY:Visitation
DESCRIPTION:
URL:https://www.hayworth-miller.com/obituaries/paul-snider
LOCATION: 3315 Silas Creek Pkwy  Winston-Salem NC 27103
GEO:36.0723888;-80.2943229
END:VEVENT
END:VCALENDAR