BEGIN:VCALENDAR
VERSION:2.0
PRODID:-//Tukios.com/
BEGIN:VEVENT
UID:8db304a6-756e-4710-bd40-3b0d238db1ec@www.hayworth-miller.com
DTSTAMP:20260422T184908Z
DTSTART:20260427T180000Z
DTEND:20260427T190000Z
SUMMARY:Memorial Service
DESCRIPTION:
URL:https://www.hayworth-miller.com/obituaries/paul-snider
LOCATION: 3315 Silas Creek Pkwy  Winston-Salem NC 27103
GEO:36.0723888;-80.2943229
END:VEVENT
END:VCALENDAR