BEGIN:VCALENDAR
VERSION:2.0
PRODID:-//Tukios.com/
BEGIN:VEVENT
UID:7fb5a71b-5174-4b68-ba41-d26e19ead662@www.hayworth-miller.com
DTSTAMP:20260422T185345Z
DTSTART:20260427T190000Z
DTEND:20260427T200000Z
SUMMARY:Committal Service
DESCRIPTION:
URL:https://www.hayworth-miller.com/obituaries/paul-snider
LOCATION: 3250 High Point Rd  Winston-Salem NC 27107
GEO:36.0756444;-80.1721524
END:VEVENT
END:VCALENDAR