BEGIN:VCALENDAR
VERSION:2.0
PRODID:-//Tukios.com/
BEGIN:VEVENT
UID:751abe6e-7b4e-41e7-a357-2c35bcb237b5@www.hayworth-miller.com
DTSTAMP:20260422T163927Z
DTSTART:20260502T200000Z
DTEND:20260502T210000Z
SUMMARY:Memorial Service
DESCRIPTION:
URL:https://www.hayworth-miller.com/obituaries/richard-bottoms
LOCATION:Hayworth-Miller Silas Creek Chapel 3315 Silas Creek Pkwy  
	Winston-Salem NC 27103
GEO:36.0723888;-80.2943229
END:VEVENT
END:VCALENDAR