BEGIN:VCALENDAR
VERSION:2.0
PRODID:-//Tukios.com/
BEGIN:VEVENT
UID:c51bcf45-0ced-4ad3-a676-40bc58eedf36@www.hayworth-miller.com
DTSTAMP:20260422T164019Z
DTSTART:20260502T190000Z
DTEND:20260502T200000Z
SUMMARY:Visitation
DESCRIPTION:
URL:https://www.hayworth-miller.com/obituaries/richard-bottoms
LOCATION:Hayworth-Miller Silas Creek Chapel 3315 Silas Creek Pkwy  
	Winston-Salem NC 27103
GEO:36.0723888;-80.2943229
END:VEVENT
END:VCALENDAR