BEGIN:VCALENDAR
VERSION:2.0
PRODID:-//Tukios.com/
BEGIN:VEVENT
UID:461034b3-8034-4c1c-9784-9f85971cdf23@www.hayworth-miller.com
DTSTAMP:20260424T235551Z
DTSTART:20260503T180000Z
DTEND:20260503T190000Z
SUMMARY:Funeral Service
DESCRIPTION:
URL:https://www.hayworth-miller.com/obituaries/sandra-woodward
LOCATION: 3315 Silas Creek Pkwy  Winston-Salem NC 27103
GEO:36.0723888;-80.2943229
END:VEVENT
END:VCALENDAR