BEGIN:VCALENDAR
VERSION:2.0
PRODID:-//Tukios.com/
BEGIN:VEVENT
UID:5ba9d9e6-44bb-4c92-8ebb-4368da5a500d@www.hayworth-miller.com
DTSTAMP:20260422T201105Z
DTSTART:20260424T190000Z
DTEND:20260424T200000Z
SUMMARY:Celebration of Life
DESCRIPTION:
URL:https://www.hayworth-miller.com/obituaries/shirley-ingram-moorefield
LOCATION: 6840 University Parkway  Rural Hall NC 27045
GEO:36.2192813;-80.286878
END:VEVENT
END:VCALENDAR