BEGIN:VCALENDAR
VERSION:2.0
PRODID:-//Tukios.com/
BEGIN:VEVENT
UID:1bfcdd5d-a89d-4320-a78f-d6d2773bbe31@www.hayworth-miller.com
DTSTAMP:20260422T201013Z
DTSTART:20260424T180000Z
DTEND:20260424T190000Z
SUMMARY:Visitation
DESCRIPTION:
URL:https://www.hayworth-miller.com/obituaries/shirley-ingram-moorefield
LOCATION: 6840 University Parkway  Rural Hall NC 27045
GEO:36.2192813;-80.286878
END:VEVENT
END:VCALENDAR