BEGIN:VCALENDAR
VERSION:2.0
PRODID:-//Tukios.com/
BEGIN:VEVENT
UID:f5eea156-5e90-47f5-aef0-61b5be0b5906@www.hayworth-miller.com
DTSTAMP:20260424T221021Z
DTSTART:20260429T170000Z
DTEND:20260429T180000Z
SUMMARY:Visitation
DESCRIPTION:
URL:https://www.hayworth-miller.com/obituaries/silas-porter
LOCATION: 234 W Dalton Rd  King NC 27021
GEO:36.2820096;-80.3615803
END:VEVENT
END:VCALENDAR