BEGIN:VCALENDAR
VERSION:2.0
PRODID:-//Tukios.com/
BEGIN:VEVENT
UID:ba985616-6b59-4580-8e1f-c13f4e3598d8@www.hayworth-miller.com
DTSTAMP:20260424T221314Z
DTSTART:20260429T180000Z
DTEND:20260429T190000Z
SUMMARY:Funeral Service
DESCRIPTION:
URL:https://www.hayworth-miller.com/obituaries/silas-porter
LOCATION: 234 W Dalton Rd  King NC 27021
GEO:36.2820096;-80.3615803
END:VEVENT
END:VCALENDAR