BEGIN:VCALENDAR
VERSION:2.0
PRODID:-//Tukios.com/
BEGIN:VEVENT
UID:9dbe9302-c494-409f-9cfd-aad68d4d56ab@www.hayworth-miller.com
DTSTAMP:20260422T231016Z
DTSTART:20260424T180000Z
DTEND:20260424T190000Z
SUMMARY:Graveside Service
DESCRIPTION:
URL:https://www.hayworth-miller.com/obituaries/terry-alexander-doub
LOCATION:Concord Methodist Church 8955 Concord Church Road  Lewisville NC 
	27023
GEO:36.0741211;-80.4386158
END:VEVENT
END:VCALENDAR